BEGIN:VCALENDAR
VERSION:2.0
PRODID:-//Young Women Empowered - ECPv6.12.0.1//NONSGML v1.0//EN
CALSCALE:GREGORIAN
METHOD:PUBLISH
X-ORIGINAL-URL:https://youngwomenempowered.org
X-WR-CALDESC:Events for Young Women Empowered
REFRESH-INTERVAL;VALUE=DURATION:PT1H
X-Robots-Tag:noindex
X-PUBLISHED-TTL:PT1H
BEGIN:VTIMEZONE
TZID:America/Los_Angeles
BEGIN:DAYLIGHT
TZOFFSETFROM:-0800
TZOFFSETTO:-0700
TZNAME:PDT
DTSTART:20220313T100000
END:DAYLIGHT
BEGIN:STANDARD
TZOFFSETFROM:-0700
TZOFFSETTO:-0800
TZNAME:PST
DTSTART:20221106T090000
END:STANDARD
BEGIN:DAYLIGHT
TZOFFSETFROM:-0800
TZOFFSETTO:-0700
TZNAME:PDT
DTSTART:20230312T100000
END:DAYLIGHT
BEGIN:STANDARD
TZOFFSETFROM:-0700
TZOFFSETTO:-0800
TZNAME:PST
DTSTART:20231105T090000
END:STANDARD
END:VTIMEZONE
BEGIN:VEVENT
DTSTART;VALUE=DATE:20221217
DTEND;VALUE=DATE:20230109
DTSTAMP:20260421T183218
CREATED:20220705T224440Z
LAST-MODIFIED:20220705T224440Z
UID:9959-1671235200-1673222399@youngwomenempowered.org
SUMMARY:Winter Break
DESCRIPTION:Y-WE is closed!
URL:https://youngwomenempowered.org/event/winter-break/
END:VEVENT
BEGIN:VEVENT
DTSTART;TZID=America/Los_Angeles:20230104T163000
DTEND;TZID=America/Los_Angeles:20230104T183000
DTSTAMP:20260421T183218
CREATED:20230223T204445Z
LAST-MODIFIED:20230223T204445Z
UID:10335-1672849800-1672857000@youngwomenempowered.org
SUMMARY:Y-WE Write
DESCRIPTION:
URL:https://youngwomenempowered.org/event/y-we-write-2/2023-01-04/
LOCATION:Zoom
CATEGORIES:Closed Group
END:VEVENT
BEGIN:VEVENT
DTSTART;TZID=America/Los_Angeles:20230111T163000
DTEND;TZID=America/Los_Angeles:20230111T183000
DTSTAMP:20260421T183218
CREATED:20220705T223909Z
LAST-MODIFIED:20220705T223909Z
UID:9930-1673454600-1673461800@youngwomenempowered.org
SUMMARY:YLC
DESCRIPTION:
URL:https://youngwomenempowered.org/event/ylc-2/2023-01-11/
LOCATION:The Y-WE Building\, 5623 Rainier Ave S\, Seattle\, WA\, 98118\, United States
CATEGORIES:Closed Group
END:VEVENT
BEGIN:VEVENT
DTSTART;TZID=America/Los_Angeles:20230121T110000
DTEND;TZID=America/Los_Angeles:20230121T160000
DTSTAMP:20260421T183218
CREATED:20220705T230434Z
LAST-MODIFIED:20230112T212412Z
UID:9997-1674298800-1674316800@youngwomenempowered.org
SUMMARY:Day of Wellness
DESCRIPTION:What does in mean to be “in right relationship?”  A phrase originally coined by Quakers is about radically transforming both our individual behavior and social structures in a way that honors all life. This year’s Day of Wellness is going to be dedicated to exploring relationality – the relationships we have with ourselves\, with one another and to the land. Please join us in the New Year on Saturday\, January 21 11am – 4:15pm at the Young Women Empowered office for a day of community\, conversation and connection.  \nLunch is provided as well as free boba! \nThis event is open to all currently enrolled participants\, who are welcome to invite their friends as well! Friends may sign up here. Prizes will be offered to enrolled youth who bring one or more friends.
URL:https://youngwomenempowered.org/event/day-of-wellness-2/
LOCATION:The Y-WE Building\, 5623 Rainier Ave S\, Seattle\, WA\, 98118\, United States
CATEGORIES:Public Event
ATTACH;FMTTYPE=image/png:https://youngwomenempowered.org/wp-content/uploads/2022/07/Day-of-Wellness-2023-1920-×-1080-px.png
END:VEVENT
END:VCALENDAR