BEGIN:VCALENDAR
VERSION:2.0
PRODID:-//Young Women Empowered - ECPv6.12.0.1//NONSGML v1.0//EN
CALSCALE:GREGORIAN
METHOD:PUBLISH
X-WR-CALNAME:Young Women Empowered
X-ORIGINAL-URL:https://youngwomenempowered.org
X-WR-CALDESC:Events for Young Women Empowered
REFRESH-INTERVAL;VALUE=DURATION:PT1H
X-Robots-Tag:noindex
X-PUBLISHED-TTL:PT1H
BEGIN:VTIMEZONE
TZID:America/Los_Angeles
BEGIN:DAYLIGHT
TZOFFSETFROM:-0800
TZOFFSETTO:-0700
TZNAME:PDT
DTSTART:20230312T100000
END:DAYLIGHT
BEGIN:STANDARD
TZOFFSETFROM:-0700
TZOFFSETTO:-0800
TZNAME:PST
DTSTART:20231105T090000
END:STANDARD
END:VTIMEZONE
BEGIN:VEVENT
DTSTART;TZID=America/Los_Angeles:20231007T130000
DTEND;TZID=America/Los_Angeles:20231007T170000
DTSTAMP:20260421T025550
CREATED:20230831T205903Z
LAST-MODIFIED:20230831T205903Z
UID:10887-1696683600-1696698000@youngwomenempowered.org
SUMMARY:Latine Day of Wellness
DESCRIPTION:
URL:https://youngwomenempowered.org/event/latine-day-of-wellness/
LOCATION:The Y-WE Building\, 5623 Rainier Ave S\, Seattle\, WA\, 98118\, United States
CATEGORIES:Public Event
ATTACH;FMTTYPE=image/png:https://youngwomenempowered.org/wp-content/uploads/2023/08/1.png
END:VEVENT
BEGIN:VEVENT
DTSTART;TZID=America/Los_Angeles:20231014T090000
DTEND;TZID=America/Los_Angeles:20231014T170000
DTSTAMP:20260421T025550
CREATED:20230831T212927Z
LAST-MODIFIED:20230831T213351Z
UID:10929-1697274000-1697302800@youngwomenempowered.org
SUMMARY:Nature Connections
DESCRIPTION:Learn more here!
URL:https://youngwomenempowered.org/event/nature-connections-2/2023-10-14/
CATEGORIES:Closed Group
END:VEVENT
BEGIN:VEVENT
DTSTART;TZID=America/Los_Angeles:20231017T163000
DTEND;TZID=America/Los_Angeles:20231017T193000
DTSTAMP:20260421T025550
CREATED:20230831T214149Z
LAST-MODIFIED:20230831T214248Z
UID:10963-1697560200-1697571000@youngwomenempowered.org
SUMMARY:Y-WE Tech
DESCRIPTION:Learn more here!
URL:https://youngwomenempowered.org/event/y-we-tech-2/2023-10-17/
LOCATION:The Y-WE Building\, 5623 Rainier Ave S\, Seattle\, WA\, 98118\, United States
CATEGORIES:Closed Group
END:VEVENT
BEGIN:VEVENT
DTSTART;TZID=America/Los_Angeles:20231018T163000
DTEND;TZID=America/Los_Angeles:20231018T193000
DTSTAMP:20260421T025550
CREATED:20230831T210157Z
LAST-MODIFIED:20230831T210454Z
UID:10890-1697646600-1697657400@youngwomenempowered.org
SUMMARY:Fall Y-WE Create
DESCRIPTION:Mixed Media Studio Art. Learn more here!
URL:https://youngwomenempowered.org/event/fall-create/2023-10-18/
LOCATION:The Y-WE Building\, 5623 Rainier Ave S\, Seattle\, WA\, 98118\, United States
CATEGORIES:Closed Group
END:VEVENT
BEGIN:VEVENT
DTSTART;TZID=America/Los_Angeles:20231024T163000
DTEND;TZID=America/Los_Angeles:20231024T193000
DTSTAMP:20260421T025550
CREATED:20230831T215918Z
LAST-MODIFIED:20230831T215918Z
UID:11000-1698165000-1698175800@youngwomenempowered.org
SUMMARY:Black Girls Matter Mentorship
DESCRIPTION:Learn more here!
URL:https://youngwomenempowered.org/event/black-girls-matter-mentorship-2/2023-10-24/
LOCATION:The Y-WE Building\, 5623 Rainier Ave S\, Seattle\, WA\, 98118\, United States
CATEGORIES:Closed Group
END:VEVENT
BEGIN:VEVENT
DTSTART;TZID=America/Los_Angeles:20231028T120000
DTEND;TZID=America/Los_Angeles:20231028T140000
DTSTAMP:20260421T025550
CREATED:20230831T215546Z
LAST-MODIFIED:20230831T215554Z
UID:10998-1698494400-1698501600@youngwomenempowered.org
SUMMARY:Harvest/Halloween Party
DESCRIPTION:
URL:https://youngwomenempowered.org/event/harvest-halloween-party/
LOCATION:Marra Farm\, 9026 4th Ave S\, Seattle\, WA\, 98108\, United States
CATEGORIES:Public Event
END:VEVENT
END:VCALENDAR