BEGIN:VCALENDAR
VERSION:2.0
PRODID:-//Young Women Empowered - ECPv6.12.0.1//NONSGML v1.0//EN
CALSCALE:GREGORIAN
METHOD:PUBLISH
X-WR-CALNAME:Young Women Empowered
X-ORIGINAL-URL:https://youngwomenempowered.org
X-WR-CALDESC:Events for Young Women Empowered
REFRESH-INTERVAL;VALUE=DURATION:PT1H
X-Robots-Tag:noindex
X-PUBLISHED-TTL:PT1H
BEGIN:VTIMEZONE
TZID:America/Los_Angeles
BEGIN:DAYLIGHT
TZOFFSETFROM:-0800
TZOFFSETTO:-0700
TZNAME:PDT
DTSTART:20220313T100000
END:DAYLIGHT
BEGIN:STANDARD
TZOFFSETFROM:-0700
TZOFFSETTO:-0800
TZNAME:PST
DTSTART:20221106T090000
END:STANDARD
END:VTIMEZONE
BEGIN:VEVENT
DTSTART;TZID=America/Los_Angeles:20220301T163000
DTEND;TZID=America/Los_Angeles:20220301T183000
DTSTAMP:20260422T162416
CREATED:20220217T213342Z
LAST-MODIFIED:20220217T221111Z
UID:9178-1646152200-1646159400@youngwomenempowered.org
SUMMARY:Building Healthy Boundaries
DESCRIPTION:
URL:https://youngwomenempowered.org/event/building-healthy-boundaries/2022-03-01/
LOCATION:Coyote Central\, 2300 E Cherry St\, Seattle\, WA\, 98122\, United States
CATEGORIES:Closed Group
ORGANIZER;CN="Shaena Spoor":MAILTO:shaena@y-we.org
END:VEVENT
BEGIN:VEVENT
DTSTART;TZID=America/Los_Angeles:20220302T160000
DTEND;TZID=America/Los_Angeles:20220302T190000
DTSTAMP:20260422T162416
CREATED:20220217T213659Z
LAST-MODIFIED:20220217T221639Z
UID:9184-1646236800-1646247600@youngwomenempowered.org
SUMMARY:Youth Leadership Council
DESCRIPTION:
URL:https://youngwomenempowered.org/event/youth-leadership-council/2022-03-02/
LOCATION:Zoom
CATEGORIES:Closed Group
ATTACH;FMTTYPE=image/jpeg:https://youngwomenempowered.org/wp-content/uploads/2022/02/YLC.jpg
END:VEVENT
BEGIN:VEVENT
DTSTART;TZID=America/Los_Angeles:20220305T090000
DTEND;TZID=America/Los_Angeles:20220305T120000
DTSTAMP:20260422T162416
CREATED:20220217T214535Z
LAST-MODIFIED:20220217T221315Z
UID:9186-1646470800-1646481600@youngwomenempowered.org
SUMMARY:Y-WE Grow
DESCRIPTION:
URL:https://youngwomenempowered.org/event/y-we-grow/2022-03-05/
LOCATION:Marra Farm\, 9026 4th Ave S\, Seattle\, WA\, 98108\, United States
CATEGORIES:Closed Group
ATTACH;FMTTYPE=image/jpeg:https://youngwomenempowered.org/wp-content/uploads/2021/08/IMG_8688-scaled.jpg
ORGANIZER;CN="Neli Jasuja":MAILTO:neli@y-we.org
END:VEVENT
END:VCALENDAR